BEGIN:VCALENDAR
VERSION:2.0
PRODID:-//eventon.com NONSGML v1.0//EN
BEGIN:VEVENT
UID:69e4d2ff46723
DTSTAMP:20260419T140503
DTSTART:20260427T133000Z
DTEND:20260427T173000Z
TZID:Europe/Lisbon
LOCATION:Auditório Carlos do Carmo R. do Centro de Saúde\,  8400-413 Lagoa
SUMMARY:Feira de Enoturismo regressa a 27 de Abril em Lagoa
DESCRIPTION: A Feira de Enoturismo do Algarve regressa\,  no próximo dia 27 de Abril\,  para a sua 2ª edição\,  numa iniciativa promovida pela Algarve Wine Tourism\,  em parceria com a Comissão Vitivinícola do Algarve e do Turismo do Algarve\,  com o apoio do Município de Lagoa. O evento\,  que decorre no[..]\nhttps://grandesescolhas.com/events/feira-de-enoturismo-regressa-a-27-de-abril-em-lagoa/
URL:https://grandesescolhas.com/events/feira-de-enoturismo-regressa-a-27-de-abril-em-lagoa/
END:VEVENT
END:VCALENDAR